BEGIN:VCALENDAR
VERSION:2.0
PRODID:-//thecccfoundation.org//NONSGML kigkonsult.se iCalcreator 2.30.10//
CALSCALE:GREGORIAN
METHOD:PUBLISH
UID:be81f11f-3da0-4118-b2ee-8d46cfe8405a
X-WR-CALDESC:test
X-WR-RELCALID:2f3860e894e8d5dabf36f22d688091c5
X-WR-TIMEZONE:America/Chicago
BEGIN:VTIMEZONE
TZID:America/Chicago
BEGIN:STANDARD
TZNAME:CST
DTSTART:20221106T020000
TZOFFSETFROM:-0500
TZOFFSETTO:-0600
RDATE:20231105T020000
RDATE:20241103T020000
END:STANDARD
BEGIN:DAYLIGHT
TZNAME:CDT
DTSTART:20230312T020000
TZOFFSETFROM:-0600
TZOFFSETTO:-0500
RDATE:20240310T020000
RDATE:20250309T020000
END:DAYLIGHT
END:VTIMEZONE
BEGIN:VEVENT
UID:23035edf-01e5-426f-804f-8fb658098cbf
DTSTAMP:20260421T162204Z
DESCRIPTION:test
DTSTART;TZID=America/Chicago:20230918T103000
DTEND;TZID=America/Chicago:20230918T113000
LOCATION:Riverside Golf Club
SUMMARY:ProAm Golf Tournament
END:VEVENT
END:VCALENDAR
