BEGIN:VCALENDAR
VERSION:2.0
PRODID:-//thecccfoundation.org//NONSGML kigkonsult.se iCalcreator 2.30.10//
CALSCALE:GREGORIAN
METHOD:PUBLISH
UID:bfa149a1-6dcd-4fee-adff-e48440f1b7aa
X-WR-CALDESC:
X-WR-RELCALID:6e47c702953a2a367039d376112d653f
X-WR-TIMEZONE:America/Chicago
BEGIN:VTIMEZONE
TZID:America/Chicago
BEGIN:STANDARD
TZNAME:CST
DTSTART:20221106T020000
TZOFFSETFROM:-0500
TZOFFSETTO:-0600
RDATE:20231105T020000
RDATE:20241103T020000
END:STANDARD
BEGIN:DAYLIGHT
TZNAME:CDT
DTSTART:20230312T020000
TZOFFSETFROM:-0600
TZOFFSETTO:-0500
RDATE:20240310T020000
RDATE:20250309T020000
END:DAYLIGHT
END:VTIMEZONE
BEGIN:VEVENT
UID:eb6ce5db-fa0a-4046-b6d0-ca6c88bdd965
DTSTAMP:20260421T145519Z
DESCRIPTION:
DTSTART;TZID=America/Chicago:20231023T000000
DTEND;TZID=America/Chicago:20231023T235900
LOCATION:
SUMMARY:Board Meeting
END:VEVENT
END:VCALENDAR
