BEGIN:VCALENDAR
VERSION:2.0
PRODID:-//thecccfoundation.org//NONSGML kigkonsult.se iCalcreator 2.30.10//
CALSCALE:GREGORIAN
METHOD:PUBLISH
UID:b4462180-1696-4d30-a794-1f647fcd4147
X-WR-CALDESC:
X-WR-RELCALID:6a8117894f4ed02dc9dc651efd198579
X-WR-TIMEZONE:America/Chicago
BEGIN:VTIMEZONE
TZID:America/Chicago
BEGIN:STANDARD
TZNAME:CST
DTSTART:20231105T020000
TZOFFSETFROM:-0500
TZOFFSETTO:-0600
RDATE:20241103T020000
END:STANDARD
BEGIN:DAYLIGHT
TZNAME:CDT
DTSTART:20230312T020000
TZOFFSETFROM:-0600
TZOFFSETTO:-0500
RDATE:20240310T020000
RDATE:20250309T020000
END:DAYLIGHT
END:VTIMEZONE
BEGIN:VEVENT
UID:b153eac4-c46f-4cd4-a9b5-08105e2fed03
DTSTAMP:20260421T131236Z
DESCRIPTION:
DTSTART;TZID=America/Chicago:20231116T000000
DTEND;TZID=America/Chicago:20231116T235900
LOCATION:
SUMMARY:Give 2 Grow Phelps County
END:VEVENT
END:VCALENDAR
