BEGIN:VCALENDAR
VERSION:2.0
PRODID:-//thecccfoundation.org//NONSGML kigkonsult.se iCalcreator 2.30.10//
CALSCALE:GREGORIAN
METHOD:PUBLISH
UID:e0e829f3-02bc-4fe8-9694-ad85cb9278cb
X-WR-CALDESC:We will be closed Thanksgiving day and the following Friday
X-WR-RELCALID:8e7a7aa79ccd6a274613eae0f080f0e7
X-WR-TIMEZONE:America/Chicago
BEGIN:VTIMEZONE
TZID:America/Chicago
BEGIN:STANDARD
TZNAME:CST
DTSTART:20231105T020000
TZOFFSETFROM:-0500
TZOFFSETTO:-0600
RDATE:20241103T020000
END:STANDARD
BEGIN:DAYLIGHT
TZNAME:CDT
DTSTART:20230312T020000
TZOFFSETFROM:-0600
TZOFFSETTO:-0500
RDATE:20240310T020000
RDATE:20250309T020000
END:DAYLIGHT
END:VTIMEZONE
BEGIN:VEVENT
UID:f302cb1e-1396-40a6-b85c-9e3a14cc39db
DTSTAMP:20260421T131109Z
DESCRIPTION:We will be closed Thanksgiving day and the following Friday
DTSTART;TZID=America/Chicago:20231123T080000
DTEND;TZID=America/Chicago:20231124T170000
LOCATION:
SUMMARY:Office Closed
END:VEVENT
END:VCALENDAR
