BEGIN:VCALENDAR
VERSION:2.0
PRODID:-//thecccfoundation.org//NONSGML kigkonsult.se iCalcreator 2.30.10//
CALSCALE:GREGORIAN
METHOD:PUBLISH
UID:169cb248-0f5c-4f5e-ae7e-15559ea1b9d1
X-WR-CALDESC:
X-WR-RELCALID:b9814963a9d3900a02d3e3b20b932b4a
X-WR-TIMEZONE:America/Chicago
BEGIN:VTIMEZONE
TZID:America/Chicago
BEGIN:STANDARD
TZNAME:CST
DTSTART:20231105T020000
TZOFFSETFROM:-0500
TZOFFSETTO:-0600
RDATE:20241103T020000
END:STANDARD
BEGIN:DAYLIGHT
TZNAME:CDT
DTSTART:20230312T020000
TZOFFSETFROM:-0600
TZOFFSETTO:-0500
RDATE:20240310T020000
RDATE:20250309T020000
END:DAYLIGHT
END:VTIMEZONE
BEGIN:VEVENT
UID:eba0ffdc-55f1-4a9a-aa11-8c607029b610
DTSTAMP:20260421T113246Z
DESCRIPTION:
DTSTART;TZID=America/Chicago:20231207T000000
DTEND;TZID=America/Chicago:20231207T235900
LOCATION:
SUMMARY:Give Where You Live Kearney
END:VEVENT
END:VCALENDAR
