BEGIN:VCALENDAR
VERSION:2.0
PRODID:-//thecccfoundation.org//NONSGML kigkonsult.se iCalcreator 2.30.10//
CALSCALE:GREGORIAN
METHOD:PUBLISH
UID:b4987e2f-9ac1-4dcd-b417-6c2e4fcb6444
X-WR-CALDESC:CCC Collegewide Winter Commencement will be held on Friday\, D
 ecember 15th at 2pm on the Columbus Campus
X-WR-RELCALID:d7348f41e6b2a7fbcb5ab7508aaa58e1
X-WR-TIMEZONE:America/Chicago
BEGIN:VTIMEZONE
TZID:America/Chicago
BEGIN:STANDARD
TZNAME:CST
DTSTART:20231105T020000
TZOFFSETFROM:-0500
TZOFFSETTO:-0600
RDATE:20241103T020000
END:STANDARD
BEGIN:DAYLIGHT
TZNAME:CDT
DTSTART:20230312T020000
TZOFFSETFROM:-0600
TZOFFSETTO:-0500
RDATE:20240310T020000
RDATE:20250309T020000
END:DAYLIGHT
END:VTIMEZONE
BEGIN:VEVENT
UID:9b9a4b78-e59b-4013-984c-ced81f47b3d8
DTSTAMP:20260421T112904Z
DESCRIPTION:CCC Collegewide Winter Commencement will be held on Friday\, De
 cember 15th at 2pm on the Columbus Campus
DTSTART;TZID=America/Chicago:20231215T140000
DTEND;TZID=America/Chicago:20231215T150000
LOCATION:
SUMMARY:Winter Commencement - Collegewide @ Columbus Campus
END:VEVENT
END:VCALENDAR
