BEGIN:VCALENDAR
VERSION:2.0
PRODID:-//thecccfoundation.org//NONSGML kigkonsult.se iCalcreator 2.30.10//
CALSCALE:GREGORIAN
METHOD:PUBLISH
UID:baccda82-b7bb-440e-907b-88212b4afec3
X-WR-CALDESC:The office will be closed Christmas Day and will reopen Decemb
 er 26th
X-WR-RELCALID:b5e7aef7a15a874ebe4c1cb14580f94b
X-WR-TIMEZONE:America/Chicago
BEGIN:VTIMEZONE
TZID:America/Chicago
BEGIN:STANDARD
TZNAME:CST
DTSTART:20231105T020000
TZOFFSETFROM:-0500
TZOFFSETTO:-0600
RDATE:20241103T020000
END:STANDARD
BEGIN:DAYLIGHT
TZNAME:CDT
DTSTART:20230312T020000
TZOFFSETFROM:-0600
TZOFFSETTO:-0500
RDATE:20240310T020000
RDATE:20250309T020000
END:DAYLIGHT
END:VTIMEZONE
BEGIN:VEVENT
UID:df5017d6-8534-4785-94f8-204436b0ca7c
DTSTAMP:20260421T113334Z
DESCRIPTION:The office will be closed Christmas Day and will reopen Decembe
 r 26th
DTSTART;TZID=America/Chicago:20231225T000000
DTEND;TZID=America/Chicago:20231225T235900
LOCATION:
SUMMARY:Office Closed
END:VEVENT
END:VCALENDAR
