BEGIN:VCALENDAR
VERSION:2.0
PRODID:-//thecccfoundation.org//NONSGML kigkonsult.se iCalcreator 2.30.10//
CALSCALE:GREGORIAN
METHOD:PUBLISH
UID:d6a4d8c9-8e90-4d2a-85b0-616b375d6f7d
X-WR-CALDESC:The Office will be closed to recongize Martin Luther King Jr. 
 Day and will reopen January 16th at 8am
X-WR-RELCALID:f0de7dcb4e0339bde46586805afda603
X-WR-TIMEZONE:America/Chicago
BEGIN:VTIMEZONE
TZID:America/Chicago
BEGIN:STANDARD
TZNAME:CST
DTSTART:20231105T020000
TZOFFSETFROM:-0500
TZOFFSETTO:-0600
RDATE:20241103T020000
END:STANDARD
BEGIN:DAYLIGHT
TZNAME:CDT
DTSTART:20230312T020000
TZOFFSETFROM:-0600
TZOFFSETTO:-0500
RDATE:20240310T020000
RDATE:20250309T020000
END:DAYLIGHT
END:VTIMEZONE
BEGIN:VEVENT
UID:079cd106-cdce-415d-b2ef-871238354113
DTSTAMP:20260421T094754Z
DESCRIPTION:The Office will be closed to recongize Martin Luther King Jr. D
 ay and will reopen January 16th at 8am
DTSTART;TZID=America/Chicago:20240115T000000
DTEND;TZID=America/Chicago:20240115T235900
LOCATION:
SUMMARY:Office Closed
END:VEVENT
END:VCALENDAR
