BEGIN:VCALENDAR
VERSION:2.0
PRODID:-//thecccfoundation.org//NONSGML kigkonsult.se iCalcreator 2.30.10//
CALSCALE:GREGORIAN
METHOD:PUBLISH
UID:8956cf04-2d0c-4a58-8e2c-9f8b17660887
X-WR-CALDESC:
X-WR-RELCALID:e04bad23ef9dd0f6755c718625d9a457
X-WR-TIMEZONE:America/Chicago
BEGIN:VTIMEZONE
TZID:America/Chicago
BEGIN:STANDARD
TZNAME:CST
DTSTART:20231105T020000
TZOFFSETFROM:-0500
TZOFFSETTO:-0600
RDATE:20241103T020000
END:STANDARD
BEGIN:DAYLIGHT
TZNAME:CDT
DTSTART:20230312T020000
TZOFFSETFROM:-0600
TZOFFSETTO:-0500
RDATE:20240310T020000
RDATE:20250309T020000
END:DAYLIGHT
END:VTIMEZONE
BEGIN:VEVENT
UID:7c1a9b98-b808-4bfa-800e-7ab5ddae4b2c
DTSTAMP:20260421T083851Z
DESCRIPTION:
DTSTART;TZID=America/Chicago:20240215T000000
DTEND;TZID=America/Chicago:20240215T235900
LOCATION:
SUMMARY:Board Meeting
END:VEVENT
END:VCALENDAR
