BEGIN:VCALENDAR
VERSION:2.0
PRODID:-//thecccfoundation.org//NONSGML kigkonsult.se iCalcreator 2.30.10//
CALSCALE:GREGORIAN
METHOD:PUBLISH
UID:df9b3219-cb66-4703-b7ff-9379b173190f
X-WR-CALDESC:
X-WR-RELCALID:144c2a64b4a3f5e92de4e071db587fb2
X-WR-TIMEZONE:America/Chicago
BEGIN:VTIMEZONE
TZID:America/Chicago
BEGIN:STANDARD
TZNAME:CST
DTSTART:20231105T020000
TZOFFSETFROM:-0500
TZOFFSETTO:-0600
RDATE:20241103T020000
END:STANDARD
BEGIN:DAYLIGHT
TZNAME:CDT
DTSTART:20230312T020000
TZOFFSETFROM:-0600
TZOFFSETTO:-0500
RDATE:20240310T020000
RDATE:20250309T020000
END:DAYLIGHT
END:VTIMEZONE
BEGIN:VEVENT
UID:027c430c-bf84-4013-8f3e-79322d87a567
DTSTAMP:20260421T083736Z
DESCRIPTION:
DTSTART;TZID=America/Chicago:20240221T113000
DTEND;TZID=America/Chicago:20240221T133000
LOCATION:3134 US-34\, GI 210/211\; 3rd room\, Grand Island\, NE 68801 US
SUMMARY:Grand Island Retiree Event
END:VEVENT
END:VCALENDAR
