BEGIN:VCALENDAR
VERSION:2.0
PRODID:-//thecccfoundation.org//NONSGML kigkonsult.se iCalcreator 2.30.10//
CALSCALE:GREGORIAN
METHOD:PUBLISH
UID:d4fd107d-104b-43a4-b5d4-3c0367e7317b
X-WR-CALDESC:
X-WR-RELCALID:a36264b4a25207bf14c5bd6766ae8970
X-WR-TIMEZONE:America/Chicago
BEGIN:VTIMEZONE
TZID:America/Chicago
BEGIN:STANDARD
TZNAME:CST
DTSTART:20231105T020000
TZOFFSETFROM:-0500
TZOFFSETTO:-0600
RDATE:20241103T020000
END:STANDARD
BEGIN:DAYLIGHT
TZNAME:CDT
DTSTART:20230312T020000
TZOFFSETFROM:-0600
TZOFFSETTO:-0500
RDATE:20240310T020000
RDATE:20250309T020000
END:DAYLIGHT
END:VTIMEZONE
BEGIN:VEVENT
UID:b6694bed-4d7a-4952-81a6-cde71190aa4c
DTSTAMP:20260421T063701Z
DESCRIPTION:
DTSTART;TZID=America/Chicago:20240305T100000
DTEND;TZID=America/Chicago:20240305T120000
LOCATION:550 S Technical Blvd\, Woodlands @ Central in the Platte Building\
 , Hastings\, NE 68901 US
SUMMARY:Hastings Retiree Event
END:VEVENT
END:VCALENDAR
