BEGIN:VCALENDAR
VERSION:2.0
PRODID:-//thecccfoundation.org//NONSGML kigkonsult.se iCalcreator 2.30.10//
CALSCALE:GREGORIAN
METHOD:PUBLISH
UID:15729d58-801a-455b-ae71-969ff8754a2e
X-WR-CALDESC:
X-WR-RELCALID:26c5c13ae3f240ae0d78ed27433c2782
X-WR-TIMEZONE:America/Chicago
BEGIN:VTIMEZONE
TZID:America/Chicago
BEGIN:STANDARD
TZNAME:CST
DTSTART:20231105T020000
TZOFFSETFROM:-0500
TZOFFSETTO:-0600
RDATE:20241103T020000
END:STANDARD
BEGIN:DAYLIGHT
TZNAME:CDT
DTSTART:20240310T020000
TZOFFSETFROM:-0600
TZOFFSETTO:-0500
RDATE:20250309T020000
END:DAYLIGHT
END:VTIMEZONE
BEGIN:VEVENT
UID:e055b342-fcd1-4247-a6c4-60b7e02a6e53
DTSTAMP:20260421T063839Z
DESCRIPTION:
DTSTART;TZID=America/Chicago:20240319T163000
DTEND;TZID=America/Chicago:20240319T183000
LOCATION:Dusters\, 2804 13th St\, Columbus\, NE 68601 US
SUMMARY:Columbus Retiree Event
END:VEVENT
END:VCALENDAR
