BEGIN:VCALENDAR
VERSION:2.0
PRODID:-//thecccfoundation.org//NONSGML kigkonsult.se iCalcreator 2.30.10//
CALSCALE:GREGORIAN
METHOD:PUBLISH
UID:fe06c451-6e02-40b8-8ffb-5ce6e27b8864
X-WR-CALDESC:Join us on Thursday April 18th\, 2024 for the Hornaday Crime H
 ouse sign reveal and a business after hours immediately following at the R
 iverside Country Club.
X-WR-RELCALID:beeb2f4961cdcfb06f28d1173f80cc51
X-WR-TIMEZONE:America/Chicago
BEGIN:VTIMEZONE
TZID:America/Chicago
BEGIN:STANDARD
TZNAME:CST
DTSTART:20231105T020000
TZOFFSETFROM:-0500
TZOFFSETTO:-0600
RDATE:20241103T020000
END:STANDARD
BEGIN:DAYLIGHT
TZNAME:CDT
DTSTART:20240310T020000
TZOFFSETFROM:-0600
TZOFFSETTO:-0500
RDATE:20250309T020000
END:DAYLIGHT
END:VTIMEZONE
BEGIN:VEVENT
UID:f07ae0c5-1b38-455c-801f-d51a7bd0d5ed
DTSTAMP:20260421T045419Z
DESCRIPTION:Join us on Thursday April 18th\, 2024 for the Hornaday Crime Ho
 use sign reveal and a business after hours immediately following at the Ri
 verside Country Club.
DTSTART;TZID=America/Chicago:20240418T160000
DTEND;TZID=America/Chicago:20240418T183000
LOCATION:3134 W Hwy 34 \, Grand Island \, NE 68801 US
SUMMARY:Hornaday Crime House Sign Reveal and Business After Hours
END:VEVENT
END:VCALENDAR
