BEGIN:VCALENDAR
VERSION:2.0
PRODID:-//thecccfoundation.org//NONSGML kigkonsult.se iCalcreator 2.30.10//
CALSCALE:GREGORIAN
METHOD:PUBLISH
UID:a0a537e7-45fc-40dc-8ca6-7f05219343f4
X-WR-CALDESC:
X-WR-RELCALID:19977bd828a43056f455842f40827243
X-WR-TIMEZONE:America/Chicago
BEGIN:VTIMEZONE
TZID:America/Chicago
BEGIN:STANDARD
TZNAME:CST
DTSTART:20231105T020000
TZOFFSETFROM:-0500
TZOFFSETTO:-0600
RDATE:20241103T020000
END:STANDARD
BEGIN:DAYLIGHT
TZNAME:CDT
DTSTART:20240310T020000
TZOFFSETFROM:-0600
TZOFFSETTO:-0500
RDATE:20250309T020000
END:DAYLIGHT
END:VTIMEZONE
BEGIN:VEVENT
UID:1e4ad47a-93c4-4330-a793-ae394edf0a65
DTSTAMP:20260421T033734Z
DESCRIPTION:
DTSTART;TZID=America/Chicago:20240501T100000
DTEND;TZID=America/Chicago:20240501T110000
LOCATION:202 N. Custer \, Grand Island \, NE 68803 US
SUMMARY:Pirnie Inclusive Playground Ribbon Cutting
END:VEVENT
END:VCALENDAR
