BEGIN:VCALENDAR
VERSION:2.0
PRODID:-//thecccfoundation.org//NONSGML kigkonsult.se iCalcreator 2.30.10//
CALSCALE:GREGORIAN
METHOD:PUBLISH
UID:aa507ecf-272c-463d-ac3b-64d015621e59
X-WR-CALDESC:The Office will be closed to recognize Memorial Day the office
  will reopen May 28th at 8am
X-WR-RELCALID:96abf55eeb6b9d586d07f73017269315
X-WR-TIMEZONE:America/Chicago
BEGIN:VTIMEZONE
TZID:America/Chicago
BEGIN:STANDARD
TZNAME:CST
DTSTART:20231105T020000
TZOFFSETFROM:-0500
TZOFFSETTO:-0600
RDATE:20241103T020000
RDATE:20251102T020000
END:STANDARD
BEGIN:DAYLIGHT
TZNAME:CDT
DTSTART:20240310T020000
TZOFFSETFROM:-0600
TZOFFSETTO:-0500
RDATE:20250309T020000
END:DAYLIGHT
END:VTIMEZONE
BEGIN:VEVENT
UID:866402b4-7139-431e-95f4-eb65ace43053
DTSTAMP:20260421T033651Z
DESCRIPTION:The Office will be closed to recognize Memorial Day the office 
 will reopen May 28th at 8am
DTSTART;TZID=America/Chicago:20240527T000000
DTEND;TZID=America/Chicago:20240527T235900
LOCATION:
SUMMARY:Office Closed
END:VEVENT
END:VCALENDAR
