BEGIN:VCALENDAR
VERSION:2.0
PRODID:-//thecccfoundation.org//NONSGML kigkonsult.se iCalcreator 2.30.10//
CALSCALE:GREGORIAN
METHOD:PUBLISH
UID:d3ce438d-c25b-441d-9cef-be10242fd2ab
X-WR-CALDESC:
X-WR-RELCALID:c46b6ac33dbe05144a6f0a8a8988bef2
X-WR-TIMEZONE:America/Chicago
BEGIN:VTIMEZONE
TZID:America/Chicago
BEGIN:STANDARD
TZNAME:CST
DTSTART:20231105T020000
TZOFFSETFROM:-0500
TZOFFSETTO:-0600
RDATE:20241103T020000
RDATE:20251102T020000
END:STANDARD
BEGIN:DAYLIGHT
TZNAME:CDT
DTSTART:20240310T020000
TZOFFSETFROM:-0600
TZOFFSETTO:-0500
RDATE:20250309T020000
END:DAYLIGHT
END:VTIMEZONE
BEGIN:VEVENT
UID:dde44663-f714-4b6d-b6e4-5afb69ecb057
DTSTAMP:20260421T013759Z
DESCRIPTION:
DTSTART;TZID=America/Chicago:20240619T050000
DTEND;TZID=America/Chicago:20240619T050001
LOCATION:Office Closed\, Hastings\, NE 68901 US
SUMMARY:Office Closed
END:VEVENT
END:VCALENDAR
