BEGIN:VCALENDAR
VERSION:2.0
PRODID:-//thecccfoundation.org//NONSGML kigkonsult.se iCalcreator 2.30.10//
CALSCALE:GREGORIAN
METHOD:PUBLISH
UID:c2229d54-7b9c-429e-a3f4-658c34a9170d
X-WR-CALDESC:
X-WR-RELCALID:248d6d0c8de97b68432fd7b393046c4a
X-WR-TIMEZONE:America/Chicago
BEGIN:VTIMEZONE
TZID:America/Chicago
BEGIN:STANDARD
TZNAME:CST
DTSTART:20231105T020000
TZOFFSETFROM:-0500
TZOFFSETTO:-0600
RDATE:20241103T020000
RDATE:20251102T020000
END:STANDARD
BEGIN:DAYLIGHT
TZNAME:CDT
DTSTART:20240310T020000
TZOFFSETFROM:-0600
TZOFFSETTO:-0500
RDATE:20250309T020000
END:DAYLIGHT
END:VTIMEZONE
BEGIN:VEVENT
UID:72adf1e6-801b-4629-af3b-5d0008079504
DTSTAMP:20260420T234507Z
DESCRIPTION:
DTSTART;TZID=America/Chicago:20240710T163000
DTEND;TZID=America/Chicago:20240710T183000
LOCATION:TBD\, Hastings\, NE 68901 US
SUMMARY:Hastings Retiree Event
END:VEVENT
END:VCALENDAR
