BEGIN:VCALENDAR
VERSION:2.0
PRODID:-//thecccfoundation.org//NONSGML kigkonsult.se iCalcreator 2.30.10//
CALSCALE:GREGORIAN
METHOD:PUBLISH
UID:d626edea-a923-4011-847f-35e415428d99
X-WR-CALDESC:CCC Alumni and Friends! \nCome join us for an exciting evening
  at the Hastings Sodbusters game on July 11th as they take on the Casper S
 puds! \nBring your friends and family for a fun-filled night with FREE tic
 kets for all! Look for Cheri Beda at the gates or message me between July 
 8th-11 for details. cheribeda@cccneb.edu or 402-460-2157
X-WR-RELCALID:d38454c0a962511ce1bc513194360edb
X-WR-TIMEZONE:America/Chicago
BEGIN:VTIMEZONE
TZID:America/Chicago
BEGIN:STANDARD
TZNAME:CST
DTSTART:20231105T020000
TZOFFSETFROM:-0500
TZOFFSETTO:-0600
RDATE:20241103T020000
RDATE:20251102T020000
END:STANDARD
BEGIN:DAYLIGHT
TZNAME:CDT
DTSTART:20240310T020000
TZOFFSETFROM:-0600
TZOFFSETTO:-0500
RDATE:20250309T020000
END:DAYLIGHT
END:VTIMEZONE
BEGIN:VEVENT
UID:b2bd9422-6835-40b5-b10a-cdc10bb212fc
DTSTAMP:20260420T235312Z
DESCRIPTION:CCC Alumni and Friends! \nCome join us for an exciting evening 
 at the Hastings Sodbusters game on July 11th as they take on the Casper Sp
 uds! \nBring your friends and family for a fun-filled night with FREE tick
 ets for all! Look for Cheri Beda at the gates or message me between July 8
 th-11 for details. cheribeda@cccneb.edu or 402-460-2157
DTSTART;TZID=America/Chicago:20240711T183000
DTEND;TZID=America/Chicago:20240711T210000
LOCATION:Duncan Field \, Hastings \, NE 68901 US
SUMMARY:CCC Alumni & Friends Night at Hastings Sodbusters Game
END:VEVENT
END:VCALENDAR
