BEGIN:VCALENDAR
VERSION:2.0
PRODID:-//thecccfoundation.org//NONSGML kigkonsult.se iCalcreator 2.30.10//
CALSCALE:GREGORIAN
METHOD:PUBLISH
UID:888fe02d-3620-4c52-ad72-248f0a633bf5
X-WR-CALDESC:
X-WR-RELCALID:25c8db37e1540afe97e8dc34edbf0a7c
X-WR-TIMEZONE:America/Chicago
BEGIN:VTIMEZONE
TZID:America/Chicago
BEGIN:STANDARD
TZNAME:CST
DTSTART:20231105T020000
TZOFFSETFROM:-0500
TZOFFSETTO:-0600
RDATE:20241103T020000
RDATE:20251102T020000
END:STANDARD
BEGIN:DAYLIGHT
TZNAME:CDT
DTSTART:20240310T020000
TZOFFSETFROM:-0600
TZOFFSETTO:-0500
RDATE:20250309T020000
END:DAYLIGHT
END:VTIMEZONE
BEGIN:VEVENT
UID:4d9ee139-0d6f-476d-95cd-b4ec0d7e3702
DTSTAMP:20260420T235144Z
DESCRIPTION:
DTSTART;TZID=America/Chicago:20240716T163000
DTEND;TZID=America/Chicago:20240716T183000
LOCATION:TBD\, Hastings\, NE 68901 US
SUMMARY:Grand Island Retiree Event
END:VEVENT
END:VCALENDAR
