BEGIN:VCALENDAR
VERSION:2.0
PRODID:-//thecccfoundation.org//NONSGML kigkonsult.se iCalcreator 2.30.10//
CALSCALE:GREGORIAN
METHOD:PUBLISH
UID:58ac7109-ff68-4d78-8e8b-07afc9aed50a
X-WR-CALDESC:The 2024 ProAm Golf Tournament will be held September 16th\, 2
 024 at Lochland Country Club in Hastings\, NE. Proceeds from this event wi
 ll go towards CCC student scholarships on the Hastings campus.\n\nGolfer a
 nd team registration opens July 1\, 2024.
X-WR-RELCALID:9e4b72dd2df5e836158b066b51bba24f
X-WR-TIMEZONE:America/Chicago
BEGIN:VTIMEZONE
TZID:America/Chicago
BEGIN:STANDARD
TZNAME:CST
DTSTART:20231105T020000
TZOFFSETFROM:-0500
TZOFFSETTO:-0600
RDATE:20241103T020000
RDATE:20251102T020000
END:STANDARD
BEGIN:DAYLIGHT
TZNAME:CDT
DTSTART:20240310T020000
TZOFFSETFROM:-0600
TZOFFSETTO:-0500
RDATE:20250309T020000
RDATE:20260308T020000
END:DAYLIGHT
END:VTIMEZONE
BEGIN:VEVENT
UID:c9fd605b-be59-427d-854f-9da4f923927e
DTSTAMP:20260420T203931Z
DESCRIPTION:The 2024 ProAm Golf Tournament will be held September 16th\, 20
 24 at Lochland Country Club in Hastings\, NE. Proceeds from this event wil
 l go towards CCC student scholarships on the Hastings campus.\n\nGolfer an
 d team registration opens July 1\, 2024.
DTSTART;TZID=America/Chicago:20240916T093000
DTEND;TZID=America/Chicago:20240916T170000
LOCATION:601 W Lochland Rd\, Hastings\, NE 68901 US
SUMMARY:34th Annual ProAm Golf Tournament Golfer Registration
END:VEVENT
END:VCALENDAR
