BEGIN:VCALENDAR
VERSION:2.0
PRODID:-//thecccfoundation.org//NONSGML kigkonsult.se iCalcreator 2.30.10//
CALSCALE:GREGORIAN
METHOD:PUBLISH
UID:4f5d3a81-c343-4a46-998d-138d63daa475
X-WR-CALDESC:The 2024 ProAm Golf Tournament will be held September 16th\, 2
 024 at Lochland Country Club in Hastings\, NE. Proceeds from this event wi
 ll go towards CCC student scholarships on the Hastings campus.\n\nSponsors
 hips are now open!\nGolfer and team registration opens July 1\, 2024.
X-WR-RELCALID:1b1307b937369ac2c6fdd9f3afb88225
X-WR-TIMEZONE:America/Chicago
BEGIN:VTIMEZONE
TZID:America/Chicago
BEGIN:STANDARD
TZNAME:CST
DTSTART:20231105T020000
TZOFFSETFROM:-0500
TZOFFSETTO:-0600
RDATE:20241103T020000
RDATE:20251102T020000
END:STANDARD
BEGIN:DAYLIGHT
TZNAME:CDT
DTSTART:20240310T020000
TZOFFSETFROM:-0600
TZOFFSETTO:-0500
RDATE:20250309T020000
RDATE:20260308T020000
END:DAYLIGHT
END:VTIMEZONE
BEGIN:VEVENT
UID:0681fc6a-47b9-4751-8ecb-2c8e71264b28
DTSTAMP:20260420T203542Z
DESCRIPTION:The 2024 ProAm Golf Tournament will be held September 16th\, 20
 24 at Lochland Country Club in Hastings\, NE. Proceeds from this event wil
 l go towards CCC student scholarships on the Hastings campus.\n\nSponsorsh
 ips are now open!\nGolfer and team registration opens July 1\, 2024.
DTSTART;TZID=America/Chicago:20240916T093000
DTEND;TZID=America/Chicago:20240916T170000
LOCATION:601 W Lochland Rd\, Hastings\, NE 68901 US
SUMMARY:34th Annual ProAm Golf Tournament Sponsorship
END:VEVENT
END:VCALENDAR
