BEGIN:VCALENDAR
VERSION:2.0
PRODID:-//thecccfoundation.org//NONSGML kigkonsult.se iCalcreator 2.30.10//
CALSCALE:GREGORIAN
METHOD:PUBLISH
UID:52961bd0-76d0-4e72-8f1e-926ba0a4b7de
X-WR-CALDESC:Wishing You a Joyful Holiday Season\n\nThe Central Community C
 ollege Foundation wishes you and your loved ones a season filled with joy\
 , warmth\, and togetherness. May this special time of year bring moments o
 f peace\, gratitude\, and reflection as we celebrate all that we’ve accomp
 lished together. Happy Holidays and best wishes for a bright New Year!
X-WR-RELCALID:8c99ddda7a6236e1d53e7945c58a1717
X-WR-TIMEZONE:America/Chicago
BEGIN:VTIMEZONE
TZID:America/Chicago
BEGIN:STANDARD
TZNAME:CST
DTSTART:20241103T020000
TZOFFSETFROM:-0500
TZOFFSETTO:-0600
RDATE:20251102T020000
END:STANDARD
BEGIN:DAYLIGHT
TZNAME:CDT
DTSTART:20240310T020000
TZOFFSETFROM:-0600
TZOFFSETTO:-0500
RDATE:20250309T020000
RDATE:20260308T020000
END:DAYLIGHT
END:VTIMEZONE
BEGIN:VEVENT
UID:6eecd853-624d-480b-a2b2-29c3615be4fd
DTSTAMP:20260420T150216Z
DESCRIPTION:Wishing You a Joyful Holiday Season\n\nThe Central Community Co
 llege Foundation wishes you and your loved ones a season filled with joy\,
  warmth\, and togetherness. May this special time of year bring moments of
  peace\, gratitude\, and reflection as we celebrate all that we’ve accompl
 ished together. Happy Holidays and best wishes for a bright New Year!
DTSTART;TZID=America/Chicago:20241225T000000
DTEND;TZID=America/Chicago:20241225T235900
LOCATION:201 Foundation PL\, Hastings\, NE 68901 US
SUMMARY:Foundation Office Closed
END:VEVENT
END:VCALENDAR
