BEGIN:VCALENDAR
VERSION:2.0
PRODID:-//thecccfoundation.org//NONSGML kigkonsult.se iCalcreator 2.30.10//
CALSCALE:GREGORIAN
METHOD:PUBLISH
UID:26a2cec7-5e4f-4f95-8081-ea82dd12757c
X-WR-CALDESC:Grand Island Campus Retirees\, join us for brunch and learn ab
 out updates on the college\, campus\, centers and Foundation. There will b
 e plenty of time to reminisce with other retirees. Feel free to bring a sp
 ouse or guest. Please RSVP by 1/08/25.\n\n*This event is for Grand Island 
 Retirees only.
X-WR-RELCALID:994d354c573bf7959bcd6c7073f31645
X-WR-TIMEZONE:America/Chicago
BEGIN:VTIMEZONE
TZID:America/Chicago
BEGIN:STANDARD
TZNAME:CST
DTSTART:20241103T020000
TZOFFSETFROM:-0500
TZOFFSETTO:-0600
RDATE:20251102T020000
END:STANDARD
BEGIN:DAYLIGHT
TZNAME:CDT
DTSTART:20240310T020000
TZOFFSETFROM:-0600
TZOFFSETTO:-0500
RDATE:20250309T020000
RDATE:20260308T020000
END:DAYLIGHT
END:VTIMEZONE
BEGIN:VEVENT
UID:581d7345-2b2f-46f2-abbc-7539d67cd3d1
DTSTAMP:20260420T134605Z
DESCRIPTION:Grand Island Campus Retirees\, join us for brunch and learn abo
 ut updates on the college\, campus\, centers and Foundation. There will be
  plenty of time to reminisce with other retirees. Feel free to bring a spo
 use or guest. Please RSVP by 1/08/25.\n\n*This event is for Grand Island R
 etirees only.
DTSTART;TZID=America/Chicago:20250122T100000
DTEND;TZID=America/Chicago:20250122T120000
LOCATION:201 Foundation PL\, Hastings\, AL 68901 US
SUMMARY:Grand Island Campus Retiree Event
END:VEVENT
END:VCALENDAR
