BEGIN:VCALENDAR
VERSION:2.0
PRODID:-//thecccfoundation.org//NONSGML kigkonsult.se iCalcreator 2.30.10//
CALSCALE:GREGORIAN
METHOD:PUBLISH
UID:54804267-71d1-432b-865c-b0cee9e1fe5c
X-WR-CALDESC:Celebrate community partnerships\, explore highlighted CCC pro
 grams and enjoy beverages and hors d'oeuvres during this free Chamber Busi
 ness After Hours event at the Innovation Center in Columbus.
X-WR-RELCALID:d4bb2e4a3fc8fec2163e6bf4deef7e2f
X-WR-TIMEZONE:America/Chicago
BEGIN:VTIMEZONE
TZID:America/Chicago
BEGIN:STANDARD
TZNAME:CST
DTSTART:20241103T020000
TZOFFSETFROM:-0500
TZOFFSETTO:-0600
RDATE:20251102T020000
END:STANDARD
BEGIN:DAYLIGHT
TZNAME:CDT
DTSTART:20240310T020000
TZOFFSETFROM:-0600
TZOFFSETTO:-0500
RDATE:20250309T020000
RDATE:20260308T020000
END:DAYLIGHT
END:VTIMEZONE
BEGIN:VEVENT
UID:a66d43b4-090b-4a33-a606-66c1a300e689
DTSTAMP:20260420T120427Z
DESCRIPTION:Celebrate community partnerships\, explore highlighted CCC prog
 rams and enjoy beverages and hors d'oeuvres during this free Chamber Busin
 ess After Hours event at the Innovation Center in Columbus.
DTSTART;TZID=America/Chicago:20250205T170000
DTEND;TZID=America/Chicago:20250205T183000
LOCATION:1365 24th Ave\, Columbus\, NE 68601 US
SUMMARY:Columbus Community Appreciation Night
END:VEVENT
END:VCALENDAR
