BEGIN:VCALENDAR
VERSION:2.0
PRODID:-//thecccfoundation.org//NONSGML kigkonsult.se iCalcreator 2.30.10//
CALSCALE:GREGORIAN
METHOD:PUBLISH
UID:c11129be-e6f1-4a0f-be74-1ad4f3bf4cd2
X-WR-CALDESC:Central Community College Foundation Board Meeting
X-WR-RELCALID:c7c81054376151bd83ea1f0bbc2c6f82
X-WR-TIMEZONE:America/Chicago
BEGIN:VTIMEZONE
TZID:America/Chicago
BEGIN:STANDARD
TZNAME:CST
DTSTART:20241103T020000
TZOFFSETFROM:-0500
TZOFFSETTO:-0600
RDATE:20251102T020000
END:STANDARD
BEGIN:DAYLIGHT
TZNAME:CDT
DTSTART:20240310T020000
TZOFFSETFROM:-0600
TZOFFSETTO:-0500
RDATE:20250309T020000
RDATE:20260308T020000
END:DAYLIGHT
END:VTIMEZONE
BEGIN:VEVENT
UID:6eba10ac-a099-4b3f-bd23-af808f4b7521
DTSTAMP:20260420T115523Z
DESCRIPTION:Central Community College Foundation Board Meeting
DTSTART;TZID=America/Chicago:20250220T050000
DTEND;TZID=America/Chicago:20250220T050001
LOCATION:201 Foundation PL\, Hastings\, NE 68901 US
SUMMARY:Foundation Board Meeting
END:VEVENT
END:VCALENDAR
