BEGIN:VCALENDAR
VERSION:2.0
PRODID:-//thecccfoundation.org//NONSGML kigkonsult.se iCalcreator 2.30.10//
CALSCALE:GREGORIAN
METHOD:PUBLISH
UID:2c4ef2c1-c210-432e-b644-0734efe3ec92
X-WR-CALDESC:Hastings Campus Retirees\, join us for brunch and learn about 
 updates on the college\, campus\, centers and Foundation. There will be pl
 enty of time to reminisce with other retirees. Feel free to bring a spouse
  or guest. Please RSVP by 1/08/25.\n\n*This event is for Hastings Retirees
  only.
X-WR-RELCALID:6b51c2a29757161f4dcccf7e65a88bc5
X-WR-TIMEZONE:America/Chicago
BEGIN:VTIMEZONE
TZID:America/Chicago
BEGIN:STANDARD
TZNAME:CST
DTSTART:20241103T020000
TZOFFSETFROM:-0500
TZOFFSETTO:-0600
RDATE:20251102T020000
END:STANDARD
BEGIN:DAYLIGHT
TZNAME:CDT
DTSTART:20240310T020000
TZOFFSETFROM:-0600
TZOFFSETTO:-0500
RDATE:20250309T020000
RDATE:20260308T020000
END:DAYLIGHT
END:VTIMEZONE
BEGIN:VEVENT
UID:8766ac2a-d459-4005-be99-b5ab5b9d30e1
DTSTAMP:20260420T120712Z
DESCRIPTION:Hastings Campus Retirees\, join us for brunch and learn about u
 pdates on the college\, campus\, centers and Foundation. There will be ple
 nty of time to reminisce with other retirees. Feel free to bring a spouse 
 or guest. Please RSVP by 1/08/25.\n\n*This event is for Hastings Retirees 
 only.
DTSTART;TZID=America/Chicago:20250227T100000
DTEND;TZID=America/Chicago:20250227T120000
LOCATION:201 Foundation PL\, Hastings\, NE 68901 US
SUMMARY:Hastings Retiree Event
END:VEVENT
END:VCALENDAR
