BEGIN:VCALENDAR
VERSION:2.0
PRODID:-//thecccfoundation.org//NONSGML kigkonsult.se iCalcreator 2.30.10//
CALSCALE:GREGORIAN
METHOD:PUBLISH
UID:e9ccdc9d-f098-4c82-bc5f-b8f2e1b59c3b
X-WR-CALDESC:Join us at Central Community College’s Grand Island Campus for
  an event that brings together alumni and the local community to celebrate
  wellness and connection. Explore interactive activities at college and co
 mmunity tables designed to promote well-being\, strengthen relationships a
 nd inspire collaborative growth. Let’s build a supportive network and leav
 e feeling connected\, empowered and ready to thrive together.
X-WR-RELCALID:d2eac702a816f57e0ae6a998496fd5f2
X-WR-TIMEZONE:America/Chicago
BEGIN:VTIMEZONE
TZID:America/Chicago
BEGIN:STANDARD
TZNAME:CST
DTSTART:20241103T020000
TZOFFSETFROM:-0500
TZOFFSETTO:-0600
RDATE:20251102T020000
END:STANDARD
BEGIN:DAYLIGHT
TZNAME:CDT
DTSTART:20250309T020000
TZOFFSETFROM:-0600
TZOFFSETTO:-0500
RDATE:20260308T020000
END:DAYLIGHT
END:VTIMEZONE
BEGIN:VEVENT
UID:5e0665db-5fc1-4f7d-8c01-c123ad2794be
DTSTAMP:20260420T083244Z
DESCRIPTION:Join us at Central Community College’s Grand Island Campus for 
 an event that brings together alumni and the local community to celebrate 
 wellness and connection. Explore interactive activities at college and com
 munity tables designed to promote well-being\, strengthen relationships an
 d inspire collaborative growth. Let’s build a supportive network and leave
  feeling connected\, empowered and ready to thrive together.
DTSTART;TZID=America/Chicago:20250426T100000
DTEND;TZID=America/Chicago:20250426T140000
LOCATION:3134 W. Highway 34\, Grand Island\, NE 68802 US
SUMMARY:Grand Island Campus Community & Alumni Celebration
END:VEVENT
END:VCALENDAR
