BEGIN:VCALENDAR
VERSION:2.0
PRODID:-//thecccfoundation.org//NONSGML kigkonsult.se iCalcreator 2.30.10//
CALSCALE:GREGORIAN
METHOD:PUBLISH
UID:ef40452b-0ec7-4492-8b96-9e488913a986
X-WR-CALDESC:Friday\, May 2\, 2025\, at the Hastings Campus as Central Comm
 unity College breaks ground on the new Automotive Careers Training Center\
 , a 42\,000-square-foot facility that will transform the future of automot
 ive and auto body education in Central Nebraska. This milestone celebrates
  the launch of construction and the incredible momentum behind the CCC Fou
 ndation’s “Race to the Finish Line” Matching Challenge\, bringing us close
 r to our $3.5 million fundraising goal. Designed with industry input and b
 uilt to meet the growing demand for skilled technicians\, this modern\, hi
 gh-tech facility will provide students with the space\, tools\, and traini
 ng they need to succeed in today’s fast-paced automotive industry.
X-WR-RELCALID:02c032d312a4c9bcd15a72be70771057
X-WR-TIMEZONE:America/Chicago
BEGIN:VTIMEZONE
TZID:America/Chicago
BEGIN:STANDARD
TZNAME:CST
DTSTART:20241103T020000
TZOFFSETFROM:-0500
TZOFFSETTO:-0600
RDATE:20251102T020000
RDATE:20261101T020000
END:STANDARD
BEGIN:DAYLIGHT
TZNAME:CDT
DTSTART:20250309T020000
TZOFFSETFROM:-0600
TZOFFSETTO:-0500
RDATE:20260308T020000
END:DAYLIGHT
END:VTIMEZONE
BEGIN:VEVENT
UID:a274749c-1a8a-46c5-b617-62782c890c26
DTSTAMP:20260420T071037Z
DESCRIPTION:Friday\, May 2\, 2025\, at the Hastings Campus as Central Commu
 nity College breaks ground on the new Automotive Careers Training Center\,
  a 42\,000-square-foot facility that will transform the future of automoti
 ve and auto body education in Central Nebraska. This milestone celebrates 
 the launch of construction and the incredible momentum behind the CCC Foun
 dation’s “Race to the Finish Line” Matching Challenge\, bringing us closer
  to our $3.5 million fundraising goal. Designed with industry input and bu
 ilt to meet the growing demand for skilled technicians\, this modern\, hig
 h-tech facility will provide students with the space\, tools\, and trainin
 g they need to succeed in today’s fast-paced automotive industry.
DTSTART;TZID=America/Chicago:20250502T100000
DTEND;TZID=America/Chicago:20250502T113000
LOCATION:550 S Technical Blvd\, Hastings\, NE 68901 US
SUMMARY:Automotive Careers Training Center Groundbreaking
END:VEVENT
END:VCALENDAR
