BEGIN:VCALENDAR
VERSION:2.0
PRODID:-//thecccfoundation.org//NONSGML kigkonsult.se iCalcreator 2.30.10//
CALSCALE:GREGORIAN
METHOD:PUBLISH
UID:f2ab1cf6-ea21-4b34-a62e-72f1eb558a3a
X-WR-CALDESC:
X-WR-RELCALID:c909cd821dff3793c51c6c48aed8d58a
X-WR-TIMEZONE:America/Chicago
BEGIN:VTIMEZONE
TZID:America/Chicago
BEGIN:STANDARD
TZNAME:CST
DTSTART:20241103T020000
TZOFFSETFROM:-0500
TZOFFSETTO:-0600
RDATE:20251102T020000
RDATE:20261101T020000
END:STANDARD
BEGIN:DAYLIGHT
TZNAME:CDT
DTSTART:20250309T020000
TZOFFSETFROM:-0600
TZOFFSETTO:-0500
RDATE:20260308T020000
END:DAYLIGHT
END:VTIMEZONE
BEGIN:VEVENT
UID:094c900d-da48-461b-a9c0-bf4e8d8dac84
DTSTAMP:20260420T070817Z
DESCRIPTION:
DTSTART;TZID=America/Chicago:20250509T190000
DTEND;TZID=America/Chicago:20250509T200000
LOCATION:4500 63rd Street\, Columbus\, NE 68601 US
SUMMARY:CCC - Columbus Spring Commencement
END:VEVENT
END:VCALENDAR
