BEGIN:VCALENDAR
VERSION:2.0
PRODID:-//thecccfoundation.org//NONSGML kigkonsult.se iCalcreator 2.30.10//
CALSCALE:GREGORIAN
METHOD:PUBLISH
UID:257ddda1-910e-41df-91e2-f8db487e0da3
X-WR-CALDESC:CCC - Grand Island Spring Commencement
X-WR-RELCALID:039cb3736f96a5adb52ac74b0b20fcfd
X-WR-TIMEZONE:America/Chicago
BEGIN:VTIMEZONE
TZID:America/Chicago
BEGIN:STANDARD
TZNAME:CST
DTSTART:20241103T020000
TZOFFSETFROM:-0500
TZOFFSETTO:-0600
RDATE:20251102T020000
RDATE:20261101T020000
END:STANDARD
BEGIN:DAYLIGHT
TZNAME:CDT
DTSTART:20250309T020000
TZOFFSETFROM:-0600
TZOFFSETTO:-0500
RDATE:20260308T020000
END:DAYLIGHT
END:VTIMEZONE
BEGIN:VEVENT
UID:ac31d1a4-83b9-48b4-aee6-16cb182b6835
DTSTAMP:20260420T070256Z
DESCRIPTION:CCC - Grand Island Spring Commencement
DTSTART;TZID=America/Chicago:20250509T100000
DTEND;TZID=America/Chicago:20250509T110000
LOCATION:700 E Stolley Park Rd.\, Grand Island\, NE 68801 US
SUMMARY:CCC - Grand Island Spring Commencement
END:VEVENT
END:VCALENDAR
