BEGIN:VCALENDAR
VERSION:2.0
PRODID:-//thecccfoundation.org//NONSGML kigkonsult.se iCalcreator 2.30.10//
CALSCALE:GREGORIAN
METHOD:PUBLISH
UID:11d40a2e-a934-4816-9487-5115857640bb
X-WR-CALDESC:CCC - Hastings Graduation
X-WR-RELCALID:d4542a3738aac7a979c3dcb77a9fc4bd
X-WR-TIMEZONE:America/Chicago
BEGIN:VTIMEZONE
TZID:America/Chicago
BEGIN:STANDARD
TZNAME:CST
DTSTART:20241103T020000
TZOFFSETFROM:-0500
TZOFFSETTO:-0600
RDATE:20251102T020000
RDATE:20261101T020000
END:STANDARD
BEGIN:DAYLIGHT
TZNAME:CDT
DTSTART:20250309T020000
TZOFFSETFROM:-0600
TZOFFSETTO:-0500
RDATE:20260308T020000
END:DAYLIGHT
END:VTIMEZONE
BEGIN:VEVENT
UID:001450b7-92d2-4cd2-9f83-569b8153e820
DTSTAMP:20260420T070649Z
DESCRIPTION:CCC - Hastings Graduation
DTSTART;TZID=America/Chicago:20250509T143000
DTEND;TZID=America/Chicago:20250509T153000
LOCATION:700 E Stolley Park\, Grand Island \, NE 68801 US
SUMMARY:CCC - Hastings Spring Commencement
END:VEVENT
END:VCALENDAR
