BEGIN:VCALENDAR
VERSION:2.0
PRODID:-//thecccfoundation.org//NONSGML kigkonsult.se iCalcreator 2.30.10//
CALSCALE:GREGORIAN
METHOD:PUBLISH
UID:01461504-52ee-4a2e-a248-05f1ca06144f
X-WR-CALDESC:The future of education and community in Holdrege is on the Ho
 rizon. Join us as we celebrate the Holdrege Center Construction Kickoff.
X-WR-RELCALID:ee8728d2456bff78df37adf8b6dec8fd
X-WR-TIMEZONE:America/Chicago
BEGIN:VTIMEZONE
TZID:America/Chicago
BEGIN:STANDARD
TZNAME:CST
DTSTART:20241103T020000
TZOFFSETFROM:-0500
TZOFFSETTO:-0600
RDATE:20251102T020000
RDATE:20261101T020000
END:STANDARD
BEGIN:DAYLIGHT
TZNAME:CDT
DTSTART:20250309T020000
TZOFFSETFROM:-0600
TZOFFSETTO:-0500
RDATE:20260308T020000
END:DAYLIGHT
END:VTIMEZONE
BEGIN:VEVENT
UID:a39cc70a-e557-4712-8ac9-75dd3f207fc1
DTSTAMP:20260420T071205Z
DESCRIPTION:The future of education and community in Holdrege is on the Hor
 izon. Join us as we celebrate the Holdrege Center Construction Kickoff.
DTSTART;TZID=America/Chicago:20250520T100000
DTEND;TZID=America/Chicago:20250520T110000
LOCATION:5th and West Ave\, Holdrege\, NE 68949 US
SUMMARY:Holdrege Center Construction Kickoff
END:VEVENT
END:VCALENDAR
