BEGIN:VCALENDAR
VERSION:2.0
PRODID:-//thecccfoundation.org//NONSGML kigkonsult.se iCalcreator 2.30.10//
CALSCALE:GREGORIAN
METHOD:PUBLISH
UID:c54e2400-9f6a-40a9-bc3e-50e02ad4a17c
X-WR-CALDESC:
X-WR-RELCALID:3076d0f4b13592117dd377e2aa8b7c72
X-WR-TIMEZONE:America/Chicago
BEGIN:VTIMEZONE
TZID:America/Chicago
BEGIN:STANDARD
TZNAME:CST
DTSTART:20241103T020000
TZOFFSETFROM:-0500
TZOFFSETTO:-0600
RDATE:20251102T020000
RDATE:20261101T020000
END:STANDARD
BEGIN:DAYLIGHT
TZNAME:CDT
DTSTART:20250309T020000
TZOFFSETFROM:-0600
TZOFFSETTO:-0500
RDATE:20260308T020000
END:DAYLIGHT
END:VTIMEZONE
BEGIN:VEVENT
UID:a49afe7b-87b9-43f7-bb44-1bb9c17fb5df
DTSTAMP:20260420T070915Z
DESCRIPTION:
DTSTART;TZID=America/Chicago:20250526T050000
DTEND;TZID=America/Chicago:20250526T050001
LOCATION:201 Foundation Pl Ste 200\, Hastings\, NE 68901 US
SUMMARY:Memorial Day - Office Closed
END:VEVENT
END:VCALENDAR
