BEGIN:VCALENDAR
VERSION:2.0
PRODID:-//thecccfoundation.org//NONSGML kigkonsult.se iCalcreator 2.30.10//
CALSCALE:GREGORIAN
METHOD:PUBLISH
UID:f0b591b2-75c4-44ef-ad1b-d75db28c4a0a
X-WR-CALDESC:
X-WR-RELCALID:c05e9660cef7c605cc341c6701cde28e
X-WR-TIMEZONE:America/Chicago
BEGIN:VTIMEZONE
TZID:America/Chicago
BEGIN:STANDARD
TZNAME:CST
DTSTART:20241103T020000
TZOFFSETFROM:-0500
TZOFFSETTO:-0600
RDATE:20251102T020000
RDATE:20261101T020000
END:STANDARD
BEGIN:DAYLIGHT
TZNAME:CDT
DTSTART:20250309T020000
TZOFFSETFROM:-0600
TZOFFSETTO:-0500
RDATE:20260308T020000
END:DAYLIGHT
END:VTIMEZONE
BEGIN:VEVENT
UID:febdfbff-afd8-49fa-91f6-224620e78b2f
DTSTAMP:20260420T053056Z
DESCRIPTION:
DTSTART;TZID=America/Chicago:20250619T050000
DTEND;TZID=America/Chicago:20250619T050001
LOCATION:201 Foundation Pl Ste 200\, Hastings\, NE 68901 US
SUMMARY:Juneteenth - Office Closed
END:VEVENT
END:VCALENDAR
