BEGIN:VCALENDAR
VERSION:2.0
PRODID:-//thecccfoundation.org//NONSGML kigkonsult.se iCalcreator 2.30.10//
CALSCALE:GREGORIAN
METHOD:PUBLISH
UID:5a443e38-e5f3-4342-9f4a-087edac5b738
X-WR-CALDESC:
X-WR-RELCALID:1739a4f5f13a9f5c4cb901eba3836447
X-WR-TIMEZONE:America/Chicago
BEGIN:VTIMEZONE
TZID:America/Chicago
BEGIN:STANDARD
TZNAME:CST
DTSTART:20241103T020000
TZOFFSETFROM:-0500
TZOFFSETTO:-0600
RDATE:20251102T020000
RDATE:20261101T020000
END:STANDARD
BEGIN:DAYLIGHT
TZNAME:CDT
DTSTART:20250309T020000
TZOFFSETFROM:-0600
TZOFFSETTO:-0500
RDATE:20260308T020000
END:DAYLIGHT
END:VTIMEZONE
BEGIN:VEVENT
UID:6ec3c293-d338-4b07-8990-d15eca066372
DTSTAMP:20260420T032944Z
DESCRIPTION:
DTSTART;TZID=America/Chicago:20250704T050000
DTEND;TZID=America/Chicago:20250704T050001
LOCATION:201 Foundation Pl Ste 200\, Hastings\, NE 68901 US
SUMMARY:4th of July - Office Closed
END:VEVENT
END:VCALENDAR
