BEGIN:VCALENDAR
VERSION:2.0
PRODID:-//thecccfoundation.org//NONSGML kigkonsult.se iCalcreator 2.30.10//
CALSCALE:GREGORIAN
METHOD:PUBLISH
UID:4c6dc642-c94b-4508-a2ab-5a2d39293155
X-WR-CALDESC:The 2025 Pro-Am Golf Tournament will be held September 15th\, 
 2025 at Elks Country Club in Columbus\, NE. Proceeds from this event will 
 go towards CCC student scholarships.\n\nSponsorships are now open!\nRegist
 er today for a team or single golfer.
X-WR-RELCALID:ce1347f474d95ec610d2e184d29896b7
X-WR-TIMEZONE:America/Chicago
BEGIN:VTIMEZONE
TZID:America/Chicago
BEGIN:STANDARD
TZNAME:CST
DTSTART:20241103T020000
TZOFFSETFROM:-0500
TZOFFSETTO:-0600
RDATE:20251102T020000
RDATE:20261101T020000
END:STANDARD
BEGIN:DAYLIGHT
TZNAME:CDT
DTSTART:20250309T020000
TZOFFSETFROM:-0600
TZOFFSETTO:-0500
RDATE:20260308T020000
RDATE:20270314T020000
END:DAYLIGHT
END:VTIMEZONE
BEGIN:VEVENT
UID:d4ba139a-f985-464f-89a0-f18e9165c602
DTSTAMP:20260420T001428Z
DESCRIPTION:The 2025 Pro-Am Golf Tournament will be held September 15th\, 2
 025 at Elks Country Club in Columbus\, NE. Proceeds from this event will g
 o towards CCC student scholarships.\n\nSponsorships are now open!\nRegiste
 r today for a team or single golfer.
DTSTART;TZID=America/Chicago:20250915T050000
DTEND;TZID=America/Chicago:20250915T050001
LOCATION:5113 63 RD\, Columbus\, NE 68601 US
SUMMARY:35th Annual Pro-Am Golf Tournament Golfer Registration
END:VEVENT
END:VCALENDAR
