BEGIN:VCALENDAR
VERSION:2.0
PRODID:-//thecccfoundation.org//NONSGML kigkonsult.se iCalcreator 2.30.10//
CALSCALE:GREGORIAN
METHOD:PUBLISH
UID:c2164852-9e2b-41fc-9a67-cd794c194c62
X-WR-CALDESC:The 2025 Pro-Am Golf Tournament will be held September 15th\, 
 2025 at Elks Country Club in Columbus\, NE. Proceeds from this event will 
 go towards CCC student scholarships.\n\nSponsorships are now open!\nGolfer
  and team registration opens July 1\, 2025.
X-WR-RELCALID:3fa665d6992b92e384f74d9c3a53ee77
X-WR-TIMEZONE:America/Chicago
BEGIN:VTIMEZONE
TZID:America/Chicago
BEGIN:STANDARD
TZNAME:CST
DTSTART:20241103T020000
TZOFFSETFROM:-0500
TZOFFSETTO:-0600
RDATE:20251102T020000
RDATE:20261101T020000
END:STANDARD
BEGIN:DAYLIGHT
TZNAME:CDT
DTSTART:20250309T020000
TZOFFSETFROM:-0600
TZOFFSETTO:-0500
RDATE:20260308T020000
RDATE:20270314T020000
END:DAYLIGHT
END:VTIMEZONE
BEGIN:VEVENT
UID:5f8a8559-8cde-45f8-804b-fdb470359b00
DTSTAMP:20260420T001807Z
DESCRIPTION:The 2025 Pro-Am Golf Tournament will be held September 15th\, 2
 025 at Elks Country Club in Columbus\, NE. Proceeds from this event will g
 o towards CCC student scholarships.\n\nSponsorships are now open!\nGolfer 
 and team registration opens July 1\, 2025.
DTSTART;TZID=America/Chicago:20250915T050000
DTEND;TZID=America/Chicago:20250915T050001
LOCATION:5113 63 RD\, Columbus\, NE 68601 US
SUMMARY:35th Annual Pro-Am Golf Tournament Sponsorship Registration
END:VEVENT
END:VCALENDAR
