BEGIN:VCALENDAR
VERSION:2.0
PRODID:-//thecccfoundation.org//NONSGML kigkonsult.se iCalcreator 2.30.10//
CALSCALE:GREGORIAN
METHOD:PUBLISH
UID:315d2604-d8e2-4c12-8786-61c9097706a6
X-WR-CALDESC:Event will be held at Woodlands in the Platte building.
X-WR-RELCALID:d7723bbe03b912d4f073044c611a12e7
X-WR-TIMEZONE:America/Chicago
BEGIN:VTIMEZONE
TZID:America/Chicago
BEGIN:STANDARD
TZNAME:CST
DTSTART:20241103T020000
TZOFFSETFROM:-0500
TZOFFSETTO:-0600
RDATE:20251102T020000
RDATE:20261101T020000
END:STANDARD
BEGIN:DAYLIGHT
TZNAME:CDT
DTSTART:20250309T020000
TZOFFSETFROM:-0600
TZOFFSETTO:-0500
RDATE:20260308T020000
RDATE:20270314T020000
END:DAYLIGHT
END:VTIMEZONE
BEGIN:VEVENT
UID:d90ee7eb-dd0a-4fc7-b22f-97379afcdfe7
DTSTAMP:20260419T225006Z
DESCRIPTION:Event will be held at Woodlands in the Platte building.
DTSTART;TZID=America/Chicago:20251015T100000
DTEND;TZID=America/Chicago:20251015T123000
LOCATION:550 S. Technical Blvd\, Platte Building\, Hasttings\, AL 68901 US
SUMMARY:Hastings Campus Retiree Brunch
END:VEVENT
END:VCALENDAR
