BEGIN:VCALENDAR
VERSION:2.0
PRODID:-//thecccfoundation.org//NONSGML kigkonsult.se iCalcreator 2.30.10//
CALSCALE:GREGORIAN
METHOD:PUBLISH
UID:baa9795c-43ce-4f8f-9eb2-acef3fb8df9d
X-WR-CALDESC:
X-WR-RELCALID:9cee5ca054213ee919d89b6def901361
X-WR-TIMEZONE:America/Chicago
BEGIN:VTIMEZONE
TZID:America/Chicago
BEGIN:STANDARD
TZNAME:CST
DTSTART:20241103T020000
TZOFFSETFROM:-0500
TZOFFSETTO:-0600
RDATE:20251102T020000
RDATE:20261101T020000
END:STANDARD
BEGIN:DAYLIGHT
TZNAME:CDT
DTSTART:20250309T020000
TZOFFSETFROM:-0600
TZOFFSETTO:-0500
RDATE:20260308T020000
RDATE:20270314T020000
END:DAYLIGHT
END:VTIMEZONE
BEGIN:VEVENT
UID:d1a215bc-2cb2-4f62-b485-fae7967e6229
DTSTAMP:20260419T224724Z
DESCRIPTION:
DTSTART;TZID=America/Chicago:20251023T100000
DTEND;TZID=America/Chicago:20251023T120000
LOCATION:3134 W Hwy 34\, Grand Island\, NE 68802 US
SUMMARY:Grand Island Campus\, Centers\, Administration Retiree Brunch
END:VEVENT
END:VCALENDAR
