BEGIN:VCALENDAR
VERSION:2.0
PRODID:-//thecccfoundation.org//NONSGML kigkonsult.se iCalcreator 2.30.10//
CALSCALE:GREGORIAN
METHOD:PUBLISH
UID:27ad097a-33ec-4087-a38e-0e031154a20d
X-WR-CALDESC:
X-WR-RELCALID:0b1aee76d3dbc88936c0a96e05356395
X-WR-TIMEZONE:America/Chicago
BEGIN:VTIMEZONE
TZID:America/Chicago
BEGIN:STANDARD
TZNAME:CST
DTSTART:20241103T020000
TZOFFSETFROM:-0500
TZOFFSETTO:-0600
RDATE:20251102T020000
RDATE:20261101T020000
END:STANDARD
BEGIN:DAYLIGHT
TZNAME:CDT
DTSTART:20250309T020000
TZOFFSETFROM:-0600
TZOFFSETTO:-0500
RDATE:20260308T020000
RDATE:20270314T020000
END:DAYLIGHT
END:VTIMEZONE
BEGIN:VEVENT
UID:6a29d40b-6b01-4268-8123-d72e57dfc362
DTSTAMP:20260419T225053Z
DESCRIPTION:
DTSTART;TZID=America/Chicago:20251030T140000
DTEND;TZID=America/Chicago:20251030T160000
LOCATION:
SUMMARY:Columbus Campus Retiree Gathering
END:VEVENT
END:VCALENDAR
