BEGIN:VCALENDAR
VERSION:2.0
PRODID:-//thecccfoundation.org//NONSGML kigkonsult.se iCalcreator 2.30.10//
CALSCALE:GREGORIAN
METHOD:PUBLISH
UID:5a871229-6d64-4e51-bc9a-e3af04ef56fb
X-WR-CALDESC:
X-WR-RELCALID:7e0ff6406bb78122ea88fad46664bd94
X-WR-TIMEZONE:America/Chicago
BEGIN:VTIMEZONE
TZID:America/Chicago
BEGIN:STANDARD
TZNAME:CST
DTSTART:20251102T020000
TZOFFSETFROM:-0500
TZOFFSETTO:-0600
RDATE:20261101T020000
END:STANDARD
BEGIN:DAYLIGHT
TZNAME:CDT
DTSTART:20250309T020000
TZOFFSETFROM:-0600
TZOFFSETTO:-0500
RDATE:20260308T020000
RDATE:20270314T020000
END:DAYLIGHT
END:VTIMEZONE
BEGIN:VEVENT
UID:9689cc0a-79b9-41a7-bdde-09e40720f500
DTSTAMP:20260419T174609Z
DESCRIPTION:
DTSTART;TZID=America/Chicago:20260122T100000
DTEND;TZID=America/Chicago:20260122T120000
LOCATION:550 S Technical Blvd.\, Platte Building\, Hastings\, NE 68901 US
SUMMARY:Hastings Campus Retiree Brunch
END:VEVENT
END:VCALENDAR
