BEGIN:VCALENDAR
VERSION:2.0
PRODID:-//thecccfoundation.org//NONSGML kigkonsult.se iCalcreator 2.30.10//
CALSCALE:GREGORIAN
METHOD:PUBLISH
UID:d1af2beb-881f-4add-949b-7bde0f866e01
X-WR-CALDESC:
X-WR-RELCALID:6727263488de4b0ff85074cd9021885e
X-WR-TIMEZONE:America/Chicago
BEGIN:VTIMEZONE
TZID:America/Chicago
BEGIN:STANDARD
TZNAME:CST
DTSTART:20251102T020000
TZOFFSETFROM:-0500
TZOFFSETTO:-0600
RDATE:20261101T020000
RDATE:20271107T020000
END:STANDARD
BEGIN:DAYLIGHT
TZNAME:CDT
DTSTART:20260308T020000
TZOFFSETFROM:-0600
TZOFFSETTO:-0500
RDATE:20270314T020000
END:DAYLIGHT
END:VTIMEZONE
BEGIN:VEVENT
UID:17936556-11bf-4a6c-8add-69c38de2986a
DTSTAMP:20260419T172512Z
DESCRIPTION:
DTSTART;TZID=America/Chicago:20260703T110000
DTEND;TZID=America/Chicago:20260703T120000
LOCATION:
SUMMARY:Office Closed - Independence Day Observed
END:VEVENT
END:VCALENDAR
