BEGIN:VCALENDAR
VERSION:2.0
PRODID:-//thecccfoundation.org//NONSGML kigkonsult.se iCalcreator 2.30.10//
CALSCALE:GREGORIAN
METHOD:PUBLISH
UID:87fafc75-0a0c-4c3f-a9ff-15ac2ae2426c
X-WR-CALDESC:
X-WR-RELCALID:8adc6c52635d66c5d6be04c9ab360d5a
X-WR-TIMEZONE:America/Chicago
BEGIN:VTIMEZONE
TZID:America/Chicago
BEGIN:STANDARD
TZNAME:CST
DTSTART:20251102T020000
TZOFFSETFROM:-0500
TZOFFSETTO:-0600
RDATE:20261101T020000
RDATE:20271107T020000
END:STANDARD
BEGIN:DAYLIGHT
TZNAME:CDT
DTSTART:20260308T020000
TZOFFSETFROM:-0600
TZOFFSETTO:-0500
RDATE:20270314T020000
END:DAYLIGHT
END:VTIMEZONE
BEGIN:VEVENT
UID:be148179-55dc-4ab9-af42-3a21a1d9bad7
DTSTAMP:20260419T210924Z
DESCRIPTION:
DTSTART;TZID=America/Chicago:20260907T110000
DTEND;TZID=America/Chicago:20260907T120000
LOCATION:
SUMMARY:Office Closed - Labor Day
END:VEVENT
END:VCALENDAR
