BEGIN:VCALENDAR
VERSION:2.0
PRODID:-//thecccfoundation.org//NONSGML kigkonsult.se iCalcreator 2.30.10//
CALSCALE:GREGORIAN
METHOD:PUBLISH
UID:5ec22923-2786-40b1-9474-69c39540faca
X-WR-CALDESC:
X-WR-RELCALID:dcea7e2a4fa9d195c7f19ab4f57902e4
X-WR-TIMEZONE:America/Chicago
BEGIN:VTIMEZONE
TZID:America/Chicago
BEGIN:STANDARD
TZNAME:CST
DTSTART:20261101T020000
TZOFFSETFROM:-0500
TZOFFSETTO:-0600
RDATE:20271107T020000
END:STANDARD
BEGIN:DAYLIGHT
TZNAME:CDT
DTSTART:20260308T020000
TZOFFSETFROM:-0600
TZOFFSETTO:-0500
RDATE:20270314T020000
RDATE:20280312T020000
END:DAYLIGHT
END:VTIMEZONE
BEGIN:VEVENT
UID:2921ecad-cf30-4cca-822e-ac40c3eb9de4
DTSTAMP:20260420T000946Z
DESCRIPTION:
DTSTART;TZID=America/Chicago:20261119T110000
DTEND;TZID=America/Chicago:20261120T120000
LOCATION:
SUMMARY:Office Closed - Thanksgiving
END:VEVENT
END:VCALENDAR
