BEGIN:VCALENDAR
VERSION:2.0
PRODID:-//thecccfoundation.org//NONSGML kigkonsult.se iCalcreator 2.30.10//
CALSCALE:GREGORIAN
METHOD:PUBLISH
UID:7ef84ee6-276b-4652-bd4e-7de3b8255aac
X-WR-CALDESC:
X-WR-RELCALID:240bf7c04a47a97404777dfb8cae9e76
X-WR-TIMEZONE:America/Chicago
BEGIN:VTIMEZONE
TZID:America/Chicago
BEGIN:STANDARD
TZNAME:CST
DTSTART:20261101T020000
TZOFFSETFROM:-0500
TZOFFSETTO:-0600
RDATE:20271107T020000
END:STANDARD
BEGIN:DAYLIGHT
TZNAME:CDT
DTSTART:20260308T020000
TZOFFSETFROM:-0600
TZOFFSETTO:-0500
RDATE:20270314T020000
RDATE:20280312T020000
END:DAYLIGHT
END:VTIMEZONE
BEGIN:VEVENT
UID:b82287f0-1c2b-4f4a-9c20-0fb0bf835f15
DTSTAMP:20260420T020131Z
DESCRIPTION:
DTSTART;TZID=America/Chicago:20261225T113000
DTEND;TZID=America/Chicago:20270101T123000
LOCATION:
SUMMARY:Office Closed - Christmas Break
END:VEVENT
END:VCALENDAR
